BEGIN:VCALENDAR
VERSION:2.0
PRODID:-//STIR - ECPv6.15.18//NONSGML v1.0//EN
CALSCALE:GREGORIAN
METHOD:PUBLISH
X-ORIGINAL-URL:https://stirmn.org
X-WR-CALDESC:Events for STIR
REFRESH-INTERVAL;VALUE=DURATION:PT1H
X-Robots-Tag:noindex
X-PUBLISHED-TTL:PT1H
BEGIN:VTIMEZONE
TZID:America/Chicago
BEGIN:DAYLIGHT
TZOFFSETFROM:-0600
TZOFFSETTO:-0500
TZNAME:CDT
DTSTART:20250309T080000
END:DAYLIGHT
BEGIN:STANDARD
TZOFFSETFROM:-0500
TZOFFSETTO:-0600
TZNAME:CST
DTSTART:20251102T070000
END:STANDARD
BEGIN:DAYLIGHT
TZOFFSETFROM:-0600
TZOFFSETTO:-0500
TZNAME:CDT
DTSTART:20260308T080000
END:DAYLIGHT
BEGIN:STANDARD
TZOFFSETFROM:-0500
TZOFFSETTO:-0600
TZNAME:CST
DTSTART:20261101T070000
END:STANDARD
BEGIN:DAYLIGHT
TZOFFSETFROM:-0600
TZOFFSETTO:-0500
TZNAME:CDT
DTSTART:20270314T080000
END:DAYLIGHT
BEGIN:STANDARD
TZOFFSETFROM:-0500
TZOFFSETTO:-0600
TZNAME:CST
DTSTART:20271107T070000
END:STANDARD
END:VTIMEZONE
BEGIN:VEVENT
DTSTART;TZID=America/Chicago:20260121T130000
DTEND;TZID=America/Chicago:20260121T143000
DTSTAMP:20260423T181201
CREATED:20260105T060816Z
LAST-MODIFIED:20260105T061106Z
UID:257520-1769000400-1769005800@stirmn.org
SUMMARY:Jumpstart January
DESCRIPTION:Start your new year with a\nclear vision and intention
URL:https://stirmn.org/event/jumpstart-january/
LOCATION:13880 Business Center Drive NW Elk River\, MN\, 13880 Business Center Drive NW Elk River\, MN
CATEGORIES:Community Mental Health
END:VEVENT
BEGIN:VEVENT
DTSTART;TZID=America/Chicago:20260121T130000
DTEND;TZID=America/Chicago:20260121T160000
DTSTAMP:20260423T181201
CREATED:20260107T202546Z
LAST-MODIFIED:20260107T202546Z
UID:257568-1769000400-1769011200@stirmn.org
SUMMARY:Money Made Simple Budgeting Series
DESCRIPTION:Money Made Simple: A Budgeting and Debt Free Series \nTake control of your finances with confidence.Meet with financial advocate\, Doug Anderson to learn a clear\, step-by-step approach to paying off debt and building lasting financial stability. This class will help you create and stick to a budget\, build an emergency fund\, and plan for future goals like saving and retirement. You’ll also learn the seven baby steps toward financial stability—and for couples\, gain tools to work as a team and resolve money disagreements. \nJanuary Budgeting SeriesWednesday\, January 14th1:00–2:00 PM – Group Kickoff Session2:00–4:00 PM – One-on-One Support Available- Drop ins welcome! \nWednesdays\, January 21st & 28th1:00–4:00 PM – One-on-One Budgeting Support- Drop ins welcome! \nRegister HERE 
URL:https://stirmn.org/event/money-made-simple-budgeting-series-2/
LOCATION:Main Street Family Resource Center\, 400 Jackson Ave NW\, Elk River\, MN\, 55330\, United States
CATEGORIES:Family Resource Center
ATTACH;FMTTYPE=image/png:https://stirmn.org/wp-content/uploads/2026/01/Money-Made-Simple-Social-Share.png
END:VEVENT
BEGIN:VEVENT
DTSTART;TZID=America/Chicago:20260121T130000
DTEND;TZID=America/Chicago:20260121T160000
DTSTAMP:20260423T181201
CREATED:20260107T202634Z
LAST-MODIFIED:20260107T202634Z
UID:257570-1769000400-1769011200@stirmn.org
SUMMARY:Money Made Simple Budgeting Series
DESCRIPTION:Money Made Simple: A Budgeting and Debt Free Series \nTake control of your finances with confidence.Meet with financial advocate\, Doug Anderson to learn a clear\, step-by-step approach to paying off debt and building lasting financial stability. This class will help you create and stick to a budget\, build an emergency fund\, and plan for future goals like saving and retirement. You’ll also learn the seven baby steps toward financial stability—and for couples\, gain tools to work as a team and resolve money disagreements. \nJanuary Budgeting SeriesWednesday\, January 14th1:00–2:00 PM – Group Kickoff Session2:00–4:00 PM – One-on-One Support Available- Drop ins welcome! \nWednesdays\, January 21st & 28th1:00–4:00 PM – One-on-One Budgeting Support- Drop ins welcome! \nRegister HERE 
URL:https://stirmn.org/event/money-made-simple-budgeting-series-3/
LOCATION:Main Street Family Resource Center\, 400 Jackson Ave NW\, Elk River\, MN\, 55330\, United States
CATEGORIES:Family Resource Center
ATTACH;FMTTYPE=image/png:https://stirmn.org/wp-content/uploads/2026/01/Money-Made-Simple-Social-Share.png
END:VEVENT
BEGIN:VEVENT
DTSTART;TZID=America/Chicago:20260121T180000
DTEND;TZID=America/Chicago:20260121T193000
DTSTAMP:20260423T181201
CREATED:20260107T201524Z
LAST-MODIFIED:20260107T201524Z
UID:257555-1769018400-1769023800@stirmn.org
SUMMARY:Learn\, Grow and Go Parent Support Group
DESCRIPTION:Join us for our Parenting Support Group: Learn\, Grow & GoWednesday\, January 21st • 6:00–7:30pm\nLiberty Elementary Family Resource Center Room 103 (Big Lake)Free event • Free childcare provided (register below!)\n\nThis month\, we’re diving into the topic of creating and maintaining family connections. Together\, we’ll explore what connection really looks like in our homes—how everyday routines\, meaningful moments\, and simple habits can strengthen the bond between you and your child.\nWe’ll talk about common challenges families face today\, such as busy schedules\, stress\, and technology\, and discover practical\, doable ways to improve communication\, build trust\, and help children feel valued and heard. Parents will leave with ideas they can use right away to bring more warmth\, closeness\, and calm into their family life.\n\nFeaturing Presenter: Julie SchultzJulie has served families since 1990 and brings over 31 years of experience in the social work field. Her background includes supporting adoptive families\, serving as a school social worker\, parenting educator with ECFE\, and adoptive parent support group leader with NACAC. Julie brings a warm and practical approach to helping families grow stronger together.\nWe’d love to have you join us for an encouraging evening of learning\, support\, and connection with other parents!\n\nTo Reserve Childcare: Creating and Maintaining Family Connection – Fill out form
URL:https://stirmn.org/event/learn-grow-and-go-parent-support-group/
LOCATION:Big Lake FRC at Liberty Elementary\, 17901 205th Ave NW\, Big Lake\, MN 55309\, Big Lake\, MN\, 55330\, United States
CATEGORIES:Family Resource Center
ATTACH;FMTTYPE=image/png:https://stirmn.org/wp-content/uploads/2026/01/Creating-and-Maintaining-Family-Connections-Flyer.png
END:VEVENT
END:VCALENDAR