BEGIN:VCALENDAR
VERSION:2.0
PRODID:-//STIR - ECPv6.15.18//NONSGML v1.0//EN
CALSCALE:GREGORIAN
METHOD:PUBLISH
X-WR-CALNAME:STIR
X-ORIGINAL-URL:https://stirmn.org
X-WR-CALDESC:Events for STIR
REFRESH-INTERVAL;VALUE=DURATION:PT1H
X-Robots-Tag:noindex
X-PUBLISHED-TTL:PT1H
BEGIN:VTIMEZONE
TZID:UTC
BEGIN:STANDARD
TZOFFSETFROM:+0000
TZOFFSETTO:+0000
TZNAME:UTC
DTSTART:20240101T000000
END:STANDARD
END:VTIMEZONE
BEGIN:VEVENT
DTSTART;TZID=UTC:20250501T183000
DTEND;TZID=UTC:20250501T200000
DTSTAMP:20260423T042124
CREATED:20250417T123000Z
LAST-MODIFIED:20250417T123059Z
UID:256594-1746124200-1746129600@stirmn.org
SUMMARY:Survivors of Suicide Support Group
DESCRIPTION:Survivors of Suicide Loss Support Group\nby Thumbs Up\nwww.hhwmn.com/find-support
URL:https://stirmn.org/event/survivors-of-suicide-support-group/
LOCATION:Jackson Ave\, Suite B\, Elk River\, 305 Jackson Ave\, Suite B\, Elk River\, MN \, 55330\, USA
CATEGORIES:Community Mental Health
ATTACH;FMTTYPE=image/webp:https://stirmn.org/wp-content/uploads/2025/04/9b856b_b4badd17bbc84921bc372fd47f52a710mv2.webp
END:VEVENT
BEGIN:VEVENT
DTSTART;TZID=UTC:20250508T100000
DTEND;TZID=UTC:20250508T113000
DTSTAMP:20260423T042124
CREATED:20250531T201343Z
LAST-MODIFIED:20250926T094730Z
UID:256898-1746698400-1746703800@stirmn.org
SUMMARY:LAC
DESCRIPTION:When: 2nd Thursday of odd numbered months (Jan 9\, Mar 13\, May 8\, July 10\, Sept 11\, Nov 13 in 2025)\nWhere: Sherburne County Government Center\, Oak room and virtual option!\nTime: 10:00AM-11:30AM \n 
URL:https://stirmn.org/event/lac/
LOCATION:Sherburne County Government Center\, Sherburne County Government Center
CATEGORIES:Community Mental Health
ATTACH;FMTTYPE=image/webp:https://stirmn.org/wp-content/uploads/2025/05/LAC-Flyer-4.25.25-1.webp
END:VEVENT
BEGIN:VEVENT
DTSTART;TZID=UTC:20250509T100000
DTEND;TZID=UTC:20250509T113000
DTSTAMP:20260423T042124
CREATED:20250417T123508Z
LAST-MODIFIED:20250926T094705Z
UID:256600-1746784800-1746790200@stirmn.org
SUMMARY:Sherburne County Adult Mental Health Local Advisory Council (LAC)
DESCRIPTION:Located at Sherburne County Government Center\, Oak Room or Virtual. \nContact for more information:\nAbby 763-350-5257 / Abby.Storms@co.sherburne.mn.us\nor\nSamantha 763-257-6524 / Samantha.Relander@co.sherburne.mn.us
URL:https://stirmn.org/event/sherburne-county-adult-mental-health-local-advisory-council-lac/
LOCATION:Sherburne County Government Center\, Sherburne County Government Center
CATEGORIES:Community Mental Health
ATTACH;FMTTYPE=image/webp:https://stirmn.org/wp-content/uploads/2025/06/LAC-Flyer-8.20.25.webp
END:VEVENT
BEGIN:VEVENT
DTSTART;TZID=UTC:20250515T130000
DTEND;TZID=UTC:20250515T150000
DTSTAMP:20260423T042124
CREATED:20250417T123739Z
LAST-MODIFIED:20250417T123739Z
UID:256603-1747314000-1747321200@stirmn.org
SUMMARY:Peer Pop Up Event
DESCRIPTION:Peer pop ups are opportunities for individuals to receive completely free\, absolutely confidential peer support fro MN residents\, age 28 and over\, from one of our trained peer support specialists. Whether you need to vent or celebrate\, we want to listen to you!
URL:https://stirmn.org/event/peer-pop-up-event-2/
LOCATION:Elk River Library\, Elk River Library
CATEGORIES:Community Mental Health
ATTACH;FMTTYPE=image/webp:https://stirmn.org/wp-content/uploads/2025/04/9b856b_8091b865b64c413eb991ee3b525cd9f3mv2.webp
END:VEVENT
END:VCALENDAR