BEGIN:VCALENDAR
VERSION:2.0
PRODID:-//STIR - ECPv6.15.18//NONSGML v1.0//EN
CALSCALE:GREGORIAN
METHOD:PUBLISH
X-ORIGINAL-URL:https://stirmn.org
X-WR-CALDESC:Events for STIR
REFRESH-INTERVAL;VALUE=DURATION:PT1H
X-Robots-Tag:noindex
X-PUBLISHED-TTL:PT1H
BEGIN:VTIMEZONE
TZID:UTC
BEGIN:STANDARD
TZOFFSETFROM:+0000
TZOFFSETTO:+0000
TZNAME:UTC
DTSTART:20240101T000000
END:STANDARD
END:VTIMEZONE
BEGIN:VEVENT
DTSTART;TZID=UTC:20250508T100000
DTEND;TZID=UTC:20250508T113000
DTSTAMP:20260423T201410
CREATED:20250531T201343Z
LAST-MODIFIED:20250926T094730Z
UID:256898-1746698400-1746703800@stirmn.org
SUMMARY:LAC
DESCRIPTION:When: 2nd Thursday of odd numbered months (Jan 9\, Mar 13\, May 8\, July 10\, Sept 11\, Nov 13 in 2025)\nWhere: Sherburne County Government Center\, Oak room and virtual option!\nTime: 10:00AM-11:30AM \n 
URL:https://stirmn.org/event/lac/
LOCATION:Sherburne County Government Center\, Sherburne County Government Center
CATEGORIES:Community Mental Health
ATTACH;FMTTYPE=image/webp:https://stirmn.org/wp-content/uploads/2025/05/LAC-Flyer-4.25.25-1.webp
END:VEVENT
END:VCALENDAR