BEGIN:VCALENDAR
VERSION:2.0
PRODID:-//STIR - ECPv6.15.18//NONSGML v1.0//EN
CALSCALE:GREGORIAN
METHOD:PUBLISH
X-ORIGINAL-URL:https://stirmn.org
X-WR-CALDESC:Events for STIR
REFRESH-INTERVAL;VALUE=DURATION:PT1H
X-Robots-Tag:noindex
X-PUBLISHED-TTL:PT1H
BEGIN:VTIMEZONE
TZID:America/Chicago
BEGIN:DAYLIGHT
TZOFFSETFROM:-0600
TZOFFSETTO:-0500
TZNAME:CDT
DTSTART:20250309T080000
END:DAYLIGHT
BEGIN:STANDARD
TZOFFSETFROM:-0500
TZOFFSETTO:-0600
TZNAME:CST
DTSTART:20251102T070000
END:STANDARD
BEGIN:DAYLIGHT
TZOFFSETFROM:-0600
TZOFFSETTO:-0500
TZNAME:CDT
DTSTART:20260308T080000
END:DAYLIGHT
BEGIN:STANDARD
TZOFFSETFROM:-0500
TZOFFSETTO:-0600
TZNAME:CST
DTSTART:20261101T070000
END:STANDARD
BEGIN:DAYLIGHT
TZOFFSETFROM:-0600
TZOFFSETTO:-0500
TZNAME:CDT
DTSTART:20270314T080000
END:DAYLIGHT
BEGIN:STANDARD
TZOFFSETFROM:-0500
TZOFFSETTO:-0600
TZNAME:CST
DTSTART:20271107T070000
END:STANDARD
END:VTIMEZONE
BEGIN:VEVENT
DTSTART;TZID=America/Chicago:20260121T130000
DTEND;TZID=America/Chicago:20260121T143000
DTSTAMP:20260423T203429
CREATED:20260105T060816Z
LAST-MODIFIED:20260105T061106Z
UID:257520-1769000400-1769005800@stirmn.org
SUMMARY:Jumpstart January
DESCRIPTION:Start your new year with a\nclear vision and intention
URL:https://stirmn.org/event/jumpstart-january/
LOCATION:13880 Business Center Drive NW Elk River\, MN\, 13880 Business Center Drive NW Elk River\, MN
CATEGORIES:Community Mental Health
END:VEVENT
BEGIN:VEVENT
DTSTART;TZID=America/Chicago:20260128T173000
DTEND;TZID=America/Chicago:20260128T190000
DTSTAMP:20260423T203429
CREATED:20260105T061549Z
LAST-MODIFIED:20260105T061636Z
UID:257531-1769621400-1769626800@stirmn.org
SUMMARY:Jumpstart January
DESCRIPTION:Start your new year with a\nclear vision and intention
URL:https://stirmn.org/event/jumpstart-january-2/
LOCATION:1114 9th Ave. SE St. Cloud\, MN 56303\, 1114 9th Ave. SE St. Cloud\, MN 56303
CATEGORIES:Community Mental Health
END:VEVENT
BEGIN:VEVENT
DTSTART;TZID=America/Chicago:20260218T130000
DTEND;TZID=America/Chicago:20260218T143000
DTSTAMP:20260423T203429
CREATED:20260105T061029Z
LAST-MODIFIED:20260126T171952Z
UID:257523-1771419600-1771425000@stirmn.org
SUMMARY:Bingo and Bonding
DESCRIPTION:Play bingo\, win prizes\, bond\nwith one another.
URL:https://stirmn.org/event/bingo-and-bonding/
LOCATION:13880 Business Center Drive NW Elk River\, MN\, 13880 Business Center Drive NW Elk River\, MN
CATEGORIES:Community Mental Health
END:VEVENT
BEGIN:VEVENT
DTSTART;TZID=America/Chicago:20260225T110000
DTEND;TZID=America/Chicago:20260225T110000
DTSTAMP:20260423T203429
CREATED:20260220T073121Z
LAST-MODIFIED:20260220T073419Z
UID:257706-1772017200-1772017200@stirmn.org
SUMMARY:STAND with Families
DESCRIPTION:STAND with Families offers ongoing support and community connection. See attached flyer for full details. \nSTAND with Families Flyer PDF
URL:https://stirmn.org/event/stand-with-families/
LOCATION:Via Zoom
CATEGORIES:Community Mental Health
ATTACH;FMTTYPE=image/webp:https://stirmn.org/wp-content/uploads/2026/02/STAND-with-families-img.webp
END:VEVENT
BEGIN:VEVENT
DTSTART;TZID=America/Chicago:20260225T173000
DTEND;TZID=America/Chicago:20260225T190000
DTSTAMP:20260423T203429
CREATED:20260105T061850Z
LAST-MODIFIED:20260126T172317Z
UID:257534-1772040600-1772046000@stirmn.org
SUMMARY:Bingo and Bonding
DESCRIPTION:Play bingo\, win prizes\, bond\nwith one another.
URL:https://stirmn.org/event/bingo-and-bonding-2/
LOCATION:1114 9th Ave. SE St. Cloud\, MN 56303\, 1114 9th Ave. SE St. Cloud\, MN 56303
CATEGORIES:Community Mental Health
END:VEVENT
BEGIN:VEVENT
DTSTART;TZID=America/Chicago:20260227T180000
DTEND;TZID=America/Chicago:20260227T220000
DTSTAMP:20260423T203429
CREATED:20260126T171458Z
LAST-MODIFIED:20260126T172455Z
UID:257632-1772215200-1772229600@stirmn.org
SUMMARY:Party With a Purpose
DESCRIPTION:You’re Invited to the 2nd Annual\nParty With a Purpose!\nFood\, libations & fun! \nVIEW PDF
URL:https://stirmn.org/event/party-with-a-purpose/
LOCATION:21st Century Bank Event Center\, 12716 Main Street\, Rogers\, MN\, 55374\, United States
CATEGORIES:Community Mental Health
ATTACH;FMTTYPE=image/webp:https://stirmn.org/wp-content/uploads/2026/01/February-27-2025-6-00-11-00-p-m-01-05-2026_12_16_PM-e1767595809973.webp
END:VEVENT
BEGIN:VEVENT
DTSTART;TZID=America/Chicago:20260304T110000
DTEND;TZID=America/Chicago:20260304T110000
DTSTAMP:20260423T203429
CREATED:20260220T092536Z
LAST-MODIFIED:20260220T092622Z
UID:257752-1772622000-1772622000@stirmn.org
SUMMARY:STAND with Families
DESCRIPTION:STAND with Families offers ongoing support and community connection. See attached flyer for full details. \nSTAND with Families Flyer PDF
URL:https://stirmn.org/event/stand-with-families-11/
LOCATION:Via Zoom
CATEGORIES:Community Mental Health
ATTACH;FMTTYPE=image/webp:https://stirmn.org/wp-content/uploads/2026/02/STAND-with-families-img.webp
END:VEVENT
BEGIN:VEVENT
DTSTART;TZID=America/Chicago:20260309T140000
DTEND;TZID=America/Chicago:20260309T150000
DTSTAMP:20260423T203429
CREATED:20260220T064946Z
LAST-MODIFIED:20260220T065359Z
UID:257680-1773064800-1773068400@stirmn.org
SUMMARY:FIA 2026 Caregiver Support
DESCRIPTION:Caregiver Support Group facilitated by Great River Faith in Action.Meets the 2nd Monday of every month from 2:00 PM – 3:30 PM. \nCaregivers need support\, resources\, education\, connection\, and a listening ear. All caregivers are welcome. \nSee attached flyer for full details. \nFIA 2026 Caregiver Support PDF
URL:https://stirmn.org/event/fia-2026-caregiver-support/
LOCATION:Saron Lutheran Church\, Saron Lutheran Church 311 Lake St S Big Lake\, MN 55309
CATEGORIES:Community Mental Health
ATTACH;FMTTYPE=image/webp:https://stirmn.org/wp-content/uploads/2026/02/FIA-2026-Caregiver-Support-Group-c-pdf-img-e1771567537763.webp
END:VEVENT
BEGIN:VEVENT
DTSTART;TZID=America/Chicago:20260311T110000
DTEND;TZID=America/Chicago:20260311T110000
DTSTAMP:20260423T203429
CREATED:20260220T073551Z
LAST-MODIFIED:20260220T073623Z
UID:257712-1773226800-1773226800@stirmn.org
SUMMARY:STAND with Families
DESCRIPTION:STAND with Families offers ongoing support and community connection. See attached flyer for full details. \nSTAND with Families Flyer PDF
URL:https://stirmn.org/event/stand-with-families-3/
LOCATION:Via Zoom
CATEGORIES:Community Mental Health
ATTACH;FMTTYPE=image/webp:https://stirmn.org/wp-content/uploads/2026/02/STAND-with-families-img.webp
END:VEVENT
BEGIN:VEVENT
DTSTART;TZID=America/Chicago:20260312T100000
DTEND;TZID=America/Chicago:20260312T113000
DTSTAMP:20260423T203429
CREATED:20250926T095831Z
LAST-MODIFIED:20260318T092137Z
UID:257286-1773309600-1773315000@stirmn.org
SUMMARY:Sherburne County Adult Mental Health Local Advisory Council (LAC)
DESCRIPTION:
URL:https://stirmn.org/event/sherburne-county-adult-mental-health-local-advisory-council-lac-2-2/
LOCATION:OPTIONS\, Inc. or Attend Virtually!\, Options\, Inc - 16820 197th Ave NW Big Lake (off Highway 10 between Elk River & Big Lake\, near CentraCare clinic)
CATEGORIES:Community Mental Health
ATTACH;FMTTYPE=image/webp:https://stirmn.org/wp-content/uploads/2026/03/LAC-Flyer-2026-pdf-compressed-pdf-img.webp
END:VEVENT
BEGIN:VEVENT
DTSTART;TZID=America/Chicago:20260316T093000
DTEND;TZID=America/Chicago:20260316T110000
DTSTAMP:20260423T203429
CREATED:20260220T072059Z
LAST-MODIFIED:20260220T072059Z
UID:257702-1773653400-1773658800@stirmn.org
SUMMARY:Community Event – March
DESCRIPTION:Please join us for this community event. Full event details are available in the attached flyer. \nFlyer PDF
URL:https://stirmn.org/event/community-event-march/
LOCATION:Virtual Event
CATEGORIES:Community Mental Health
ATTACH;FMTTYPE=image/webp:https://stirmn.org/wp-content/uploads/2026/02/Flyer_March-img.webp
END:VEVENT
BEGIN:VEVENT
DTSTART;TZID=America/Chicago:20260318T110000
DTEND;TZID=America/Chicago:20260318T110000
DTSTAMP:20260423T203429
CREATED:20260220T073736Z
LAST-MODIFIED:20260220T073736Z
UID:257716-1773831600-1773831600@stirmn.org
SUMMARY:STAND with Families
DESCRIPTION:STAND with Families offers ongoing support and community connection. See attached flyer for full details. \nSTAND with Families Flyer PDF
URL:https://stirmn.org/event/stand-with-families-4/
LOCATION:Via Zoom
CATEGORIES:Community Mental Health
ATTACH;FMTTYPE=image/webp:https://stirmn.org/wp-content/uploads/2026/02/STAND-with-families-img.webp
END:VEVENT
BEGIN:VEVENT
DTSTART;TZID=America/Chicago:20260318T130000
DTEND;TZID=America/Chicago:20260318T143000
DTSTAMP:20260423T203429
CREATED:20260105T061224Z
LAST-MODIFIED:20260105T061726Z
UID:257527-1773838800-1773844200@stirmn.org
SUMMARY:Popcorn with Peach
DESCRIPTION:Meet Peach the Therapy Dog\,\nenjoy popcorn\, and chat
URL:https://stirmn.org/event/popcorn-with-peach/
LOCATION:13880 Business Center Drive NW Elk River\, MN\, 13880 Business Center Drive NW Elk River\, MN
CATEGORIES:Community Mental Health
END:VEVENT
BEGIN:VEVENT
DTSTART;TZID=America/Chicago:20260321T170000
DTEND;TZID=America/Chicago:20260321T180000
DTSTAMP:20260423T203429
CREATED:20260220T063504Z
LAST-MODIFIED:20260220T093754Z
UID:257673-1774112400-1774116000@stirmn.org
SUMMARY:Gala 2026 Flyer
DESCRIPTION:Join STIR for the 2026 Gala event. See attached flyer for full event details including time\, location\, and registration information. \nGala 2026 Flyer PDF
URL:https://stirmn.org/event/gala-2026-flyer/
LOCATION:Great River Faith in Action\, Great River Faith in Action 13074 Edgewood St SE Becker\, MN 55308
CATEGORIES:Community Mental Health
ATTACH;FMTTYPE=image/webp:https://stirmn.org/wp-content/uploads/2026/02/Gala-2026-Flyer-img.webp
END:VEVENT
BEGIN:VEVENT
DTSTART;TZID=America/Chicago:20260325T110000
DTEND;TZID=America/Chicago:20260325T113000
DTSTAMP:20260423T203429
CREATED:20260220T073833Z
LAST-MODIFIED:20260220T073833Z
UID:257718-1774436400-1774438200@stirmn.org
SUMMARY:STAND with Families
DESCRIPTION:STAND with Families offers ongoing support and community connection. See attached flyer for full details. \nSTAND with Families Flyer PDF
URL:https://stirmn.org/event/stand-with-families-5/
LOCATION:Via Zoom
CATEGORIES:Community Mental Health
ATTACH;FMTTYPE=image/webp:https://stirmn.org/wp-content/uploads/2026/02/STAND-with-families-img.webp
END:VEVENT
BEGIN:VEVENT
DTSTART;TZID=America/Chicago:20260325T173000
DTEND;TZID=America/Chicago:20260325T190000
DTSTAMP:20260423T203429
CREATED:20260105T061951Z
LAST-MODIFIED:20260105T061951Z
UID:257541-1774459800-1774465200@stirmn.org
SUMMARY:Popcorn with Peach
DESCRIPTION:Meet Peach the Therapy Dog\,\nenjoy popcorn\, and chat
URL:https://stirmn.org/event/popcorn-with-peach-2/
LOCATION:1114 9th Ave. SE St. Cloud\, MN 56303\, 1114 9th Ave. SE St. Cloud\, MN 56303
CATEGORIES:Community Mental Health
END:VEVENT
BEGIN:VEVENT
DTSTART;TZID=America/Chicago:20260401T110000
DTEND;TZID=America/Chicago:20260401T110000
DTSTAMP:20260423T203429
CREATED:20260220T073929Z
LAST-MODIFIED:20260220T073929Z
UID:257720-1775041200-1775041200@stirmn.org
SUMMARY:STAND with Families
DESCRIPTION:STAND with Families offers ongoing support and community connection. See attached flyer for full details. \nSTAND with Families Flyer PDF
URL:https://stirmn.org/event/stand-with-families-6/
LOCATION:Via Zoom
CATEGORIES:Community Mental Health
ATTACH;FMTTYPE=image/webp:https://stirmn.org/wp-content/uploads/2026/02/STAND-with-families-img.webp
END:VEVENT
BEGIN:VEVENT
DTSTART;TZID=America/Chicago:20260408T110000
DTEND;TZID=America/Chicago:20260408T110000
DTSTAMP:20260423T203429
CREATED:20260220T074014Z
LAST-MODIFIED:20260220T074014Z
UID:257722-1775646000-1775646000@stirmn.org
SUMMARY:STAND with Families
DESCRIPTION:STAND with Families offers ongoing support and community connection. See attached flyer for full details. \nSTAND with Families Flyer PDF
URL:https://stirmn.org/event/stand-with-families-7/
LOCATION:Via Zoom
CATEGORIES:Community Mental Health
ATTACH;FMTTYPE=image/webp:https://stirmn.org/wp-content/uploads/2026/02/STAND-with-families-img.webp
END:VEVENT
BEGIN:VEVENT
DTSTART;TZID=America/Chicago:20260409T090000
DTEND;TZID=America/Chicago:20260409T110000
DTSTAMP:20260423T203429
CREATED:20260220T074956Z
LAST-MODIFIED:20260220T075229Z
UID:257730-1775725200-1775732400@stirmn.org
SUMMARY:Guardianship Supportive Decision Making
DESCRIPTION:See attached flyer for details. \nPDF
URL:https://stirmn.org/event/guardianship-supportive-decision-making/
LOCATION:Government Center Room\, Wright County Government Center ~ Room 1104 3650 Braddock Ave NE Buffalo\, MN 55313
CATEGORIES:Community Mental Health
ATTACH;FMTTYPE=image/webp:https://stirmn.org/wp-content/uploads/2026/02/Guardianship-Supportive-Decision-Making-Flyer-img.webp
END:VEVENT
BEGIN:VEVENT
DTSTART;TZID=America/Chicago:20260413T140000
DTEND;TZID=America/Chicago:20260413T150000
DTSTAMP:20260423T203429
CREATED:20260220T065614Z
LAST-MODIFIED:20260220T065614Z
UID:257684-1776088800-1776092400@stirmn.org
SUMMARY:FIA 2026 Caregiver Support
DESCRIPTION:Caregiver Support Group facilitated by Great River Faith in Action.Meets the 2nd Monday of every month from 2:00 PM – 3:30 PM. \nCaregivers need support\, resources\, education\, connection\, and a listening ear. All caregivers are welcome. \nSee attached flyer for full details. \nFIA 2026 Caregiver Support PDF
URL:https://stirmn.org/event/fia-2026-caregiver-support-2/
LOCATION:Saron Lutheran Church\, Saron Lutheran Church 311 Lake Street South Big Lake\, MN 55309
CATEGORIES:Community Mental Health
ATTACH;FMTTYPE=image/webp:https://stirmn.org/wp-content/uploads/2026/02/FIA-2026-Caregiver-Support-Group-c-pdf-img-e1771567537763.webp
END:VEVENT
BEGIN:VEVENT
DTSTART;TZID=America/Chicago:20260415T110000
DTEND;TZID=America/Chicago:20260415T110000
DTSTAMP:20260423T203429
CREATED:20260220T074054Z
LAST-MODIFIED:20260220T074054Z
UID:257724-1776250800-1776250800@stirmn.org
SUMMARY:STAND with Families
DESCRIPTION:STAND with Families offers ongoing support and community connection. See attached flyer for full details. \nSTAND with Families Flyer PDF
URL:https://stirmn.org/event/stand-with-families-8/
LOCATION:Via Zoom
CATEGORIES:Community Mental Health
ATTACH;FMTTYPE=image/webp:https://stirmn.org/wp-content/uploads/2026/02/STAND-with-families-img.webp
END:VEVENT
BEGIN:VEVENT
DTSTART;TZID=America/Chicago:20260415T130000
DTEND;TZID=America/Chicago:20260415T143000
DTSTAMP:20260423T203429
CREATED:20260105T061408Z
LAST-MODIFIED:20260318T073649Z
UID:257529-1776258000-1776263400@stirmn.org
SUMMARY:Community Support Program (CSP) – Card Club
DESCRIPTION:Cribbage\, rummy\, Skip-Bo\nand more! Join for friendly\ncompetition and fun! \nCSP-PDF
URL:https://stirmn.org/event/community-support-program-csp-card-club-2/
LOCATION:13880 Business Center Drive NW Elk River\, MN\, 13880 Business Center Drive NW Elk River\, MN
CATEGORIES:Community Mental Health
ATTACH;FMTTYPE=image/webp:https://stirmn.org/wp-content/uploads/2026/03/CSP-Public-Flyer-Mar-June-compressed-pdf-img.webp
END:VEVENT
BEGIN:VEVENT
DTSTART;TZID=America/Chicago:20260416T133000
DTEND;TZID=America/Chicago:20260416T150000
DTSTAMP:20260423T203429
CREATED:20260220T075442Z
LAST-MODIFIED:20260220T075442Z
UID:257735-1776346200-1776351600@stirmn.org
SUMMARY:Guardianship Supportive Decision Making
DESCRIPTION:See attached flyer for details. \nPDF
URL:https://stirmn.org/event/guardianship-supportive-decision-making-2/
LOCATION:Great River Regional Library\, Great River Regional Library St. Cloud ~ Mississippi Room 1300 W St. Germain Street St. Cloud\, MN 56301
CATEGORIES:Community Mental Health
ATTACH;FMTTYPE=image/webp:https://stirmn.org/wp-content/uploads/2026/02/Guardianship-Supportive-Decision-Making-Flyer-img.webp
END:VEVENT
BEGIN:VEVENT
DTSTART;TZID=America/Chicago:20260422T110000
DTEND;TZID=America/Chicago:20260422T110000
DTSTAMP:20260423T203429
CREATED:20260220T074147Z
LAST-MODIFIED:20260220T074147Z
UID:257726-1776855600-1776855600@stirmn.org
SUMMARY:STAND with Families
DESCRIPTION:STAND with Families offers ongoing support and community connection. See attached flyer for full details. \nSTAND with Families Flyer PDF
URL:https://stirmn.org/event/stand-with-families-9/
LOCATION:Via Zoom
CATEGORIES:Community Mental Health
ATTACH;FMTTYPE=image/webp:https://stirmn.org/wp-content/uploads/2026/02/STAND-with-families-img.webp
END:VEVENT
BEGIN:VEVENT
DTSTART;TZID=America/Chicago:20260422T113000
DTEND;TZID=America/Chicago:20260422T133000
DTSTAMP:20260423T203429
CREATED:20260318T063325Z
LAST-MODIFIED:20260318T063628Z
UID:257814-1776857400-1776864600@stirmn.org
SUMMARY:Safe Child Council Luncheon
DESCRIPTION:Speaker: Jane Straub (CornerHouse)\nTopic: After a Child Abuse Disclosure – Supporting Caregivers and Professionals\n\nAdditional Info\n\nRegistration required (payment needed)\nPayment options: Mail or at the door\nCertificates of attendance available\n\nApril-2026-Flyer-PDF
URL:https://stirmn.org/event/safe-child-council-luncheon/
LOCATION:Style Catering\, Big Lake\, Style Catering\, Big Lake
CATEGORIES:Community Mental Health
ATTACH;FMTTYPE=image/webp:https://stirmn.org/wp-content/uploads/2026/03/April-2026-Flyer-img.webp
END:VEVENT
BEGIN:VEVENT
DTSTART;TZID=America/Chicago:20260422T173000
DTEND;TZID=America/Chicago:20260422T190000
DTSTAMP:20260423T203429
CREATED:20260105T062059Z
LAST-MODIFIED:20260318T073510Z
UID:257543-1776879000-1776884400@stirmn.org
SUMMARY:Community Support Program (CSP) – Card Club
DESCRIPTION:Cribbage\, rummy\, Skip-Bo\nand more! Join for friendly\ncompetition and fun! \nCSP-PDF
URL:https://stirmn.org/event/community-support-program-csp-card-club/
LOCATION:1114 9th Ave. SE St. Cloud\, MN 56303\, 1114 9th Ave. SE St. Cloud\, MN 56303
CATEGORIES:Community Mental Health
ATTACH;FMTTYPE=image/webp:https://stirmn.org/wp-content/uploads/2026/01/CSP-Public-Flyer-Mar-June-compressed-pdf-img-2.webp
END:VEVENT
BEGIN:VEVENT
DTSTART;TZID=America/Chicago:20260429T110000
DTEND;TZID=America/Chicago:20260429T110000
DTSTAMP:20260423T203429
CREATED:20260220T074238Z
LAST-MODIFIED:20260220T074238Z
UID:257728-1777460400-1777460400@stirmn.org
SUMMARY:STAND with Families
DESCRIPTION:STAND with Families offers ongoing support and community connection. See attached flyer for full details. \nSTAND with Families Flyer PDF
URL:https://stirmn.org/event/stand-with-families-10/
LOCATION:Via Zoom
CATEGORIES:Community Mental Health
ATTACH;FMTTYPE=image/webp:https://stirmn.org/wp-content/uploads/2026/02/STAND-with-families-img.webp
END:VEVENT
BEGIN:VEVENT
DTSTART;TZID=America/Chicago:20260430T080000
DTEND;TZID=America/Chicago:20260501T170000
DTSTAMP:20260423T203429
CREATED:20260220T080054Z
LAST-MODIFIED:20260220T092814Z
UID:257738-1777536000-1777654800@stirmn.org
SUMMARY:2026 MMHC Flyer
DESCRIPTION:Join us for the 2026 MMHC event. Please refer to the attached flyer for event schedule and additional information. \n2026 MMHC Flyer
URL:https://stirmn.org/event/2026-mmhc-flyer/
LOCATION:Camp Ripley – Minnesota National Guard\, Camp Ripley – Minnesota National Guard 1500 Highway 115 Little Falls\, MN
CATEGORIES:Community Mental Health
ATTACH;FMTTYPE=image/webp:https://stirmn.org/wp-content/uploads/2026/02/2026-MMHC-Flyer-img.webp
END:VEVENT
BEGIN:VEVENT
DTSTART;TZID=America/Chicago:20260508T100000
DTEND;TZID=America/Chicago:20260508T113000
DTSTAMP:20260423T203429
CREATED:20250926T100009Z
LAST-MODIFIED:20260318T092029Z
UID:257288-1778234400-1778239800@stirmn.org
SUMMARY:Sherburne County Adult Mental Health Local Advisory Council (LAC)
DESCRIPTION:
URL:https://stirmn.org/event/sherburne-county-adult-mental-health-local-advisory-council-lac-2-3/
LOCATION:OPTIONS\, Inc. or Attend Virtually!\, Options\, Inc - 16820 197th Ave NW Big Lake (off Highway 10 between Elk River & Big Lake\, near CentraCare clinic)
CATEGORIES:Community Mental Health
ATTACH;FMTTYPE=image/webp:https://stirmn.org/wp-content/uploads/2026/03/LAC-Flyer-2026-pdf-compressed-pdf-img.webp
END:VEVENT
BEGIN:VEVENT
DTSTART;TZID=America/Chicago:20260511T140000
DTEND;TZID=America/Chicago:20260511T150000
DTSTAMP:20260423T203429
CREATED:20260220T065813Z
LAST-MODIFIED:20260220T065813Z
UID:257686-1778508000-1778511600@stirmn.org
SUMMARY:FIA 2026 Caregiver Support
DESCRIPTION:Caregiver Support Group facilitated by Great River Faith in Action.Meets the 2nd Monday of every month from 2:00 PM – 3:30 PM. \nCaregivers need support\, resources\, education\, connection\, and a listening ear. All caregivers are welcome. \nSee attached flyer for full details. \nFIA 2026 Caregiver Support PDF
URL:https://stirmn.org/event/fia-2026-caregiver-support-3/
LOCATION:Saron Lutheran Church\, Saron Lutheran Church 311 Lake Street South Big Lake\, MN 55309
CATEGORIES:Community Mental Health
ATTACH;FMTTYPE=image/webp:https://stirmn.org/wp-content/uploads/2026/02/FIA-2026-Caregiver-Support-Group-c-pdf-img-e1771567537763.webp
END:VEVENT
END:VCALENDAR