BEGIN:VCALENDAR
VERSION:2.0
PRODID:-//STIR - ECPv6.15.18//NONSGML v1.0//EN
CALSCALE:GREGORIAN
METHOD:PUBLISH
X-ORIGINAL-URL:https://stirmn.org
X-WR-CALDESC:Events for STIR
REFRESH-INTERVAL;VALUE=DURATION:PT1H
X-Robots-Tag:noindex
X-PUBLISHED-TTL:PT1H
BEGIN:VTIMEZONE
TZID:America/Chicago
BEGIN:DAYLIGHT
TZOFFSETFROM:-0600
TZOFFSETTO:-0500
TZNAME:CDT
DTSTART:20240310T080000
END:DAYLIGHT
BEGIN:STANDARD
TZOFFSETFROM:-0500
TZOFFSETTO:-0600
TZNAME:CST
DTSTART:20241103T070000
END:STANDARD
BEGIN:DAYLIGHT
TZOFFSETFROM:-0600
TZOFFSETTO:-0500
TZNAME:CDT
DTSTART:20250309T080000
END:DAYLIGHT
BEGIN:STANDARD
TZOFFSETFROM:-0500
TZOFFSETTO:-0600
TZNAME:CST
DTSTART:20251102T070000
END:STANDARD
BEGIN:DAYLIGHT
TZOFFSETFROM:-0600
TZOFFSETTO:-0500
TZNAME:CDT
DTSTART:20260308T080000
END:DAYLIGHT
BEGIN:STANDARD
TZOFFSETFROM:-0500
TZOFFSETTO:-0600
TZNAME:CST
DTSTART:20261101T070000
END:STANDARD
END:VTIMEZONE
BEGIN:VEVENT
DTSTART;TZID=America/Chicago:20250912T183000
DTEND;TZID=America/Chicago:20250912T193000
DTSTAMP:20260420T070331
CREATED:20250825T211308Z
LAST-MODIFIED:20250825T211308Z
UID:257194-1757701800-1757705400@stirmn.org
SUMMARY:Hope in a Hopeless World Mental Health & Wellness Support Group
DESCRIPTION:Free\, peer-led support groups open to adults living with mental health concerns or symptoms of mental illness. All groups are led by peers with firsthand experience living with mental health concerns. \n2nd & 4th Thursday of every month from 6:30 PM to 7:30 PM \nLocation: Main Street Family Services 400 Jackson Ave NW\, Elk River\, MN 55330 Co-Facilitators: Job & Ryan
URL:https://stirmn.org/event/hope-in-a-hopeless-world-mental-health-wellness-support-group/
LOCATION:Family Resource Center\, Family Resource Center
CATEGORIES:Community Mental Health,STIR
ATTACH;FMTTYPE=image/png:https://stirmn.org/wp-content/uploads/2025/08/Hope-in-a-Hopeless-World-2nd-and-4th-Thursdays.png
END:VEVENT
BEGIN:VEVENT
DTSTART;TZID=America/Chicago:20250917T100000
DTEND;TZID=America/Chicago:20250917T130000
DTSTAMP:20260420T070331
CREATED:20250825T182421Z
LAST-MODIFIED:20250825T182421Z
UID:257186-1758103200-1758114000@stirmn.org
SUMMARY:Drop in Counseling at Main Street Family Services
DESCRIPTION:Are you or someone you know struggling with mental health stability\, stress or feelings of overwhelm? Main Street Family Services is offering free drop-in therapy. Drop in therapy services are completely free and confidential and no appointment is necessary. A licensed Main Street Family Services Therapist will be available on the 3rd Wednesday of the month from 10:00am-1:00pm. \nLocation: Main Street Family Services 400 Jackson Ave NW Elk River\, MN 55330
URL:https://stirmn.org/event/drop-in-counseling-at-main-street-family-services/
LOCATION:Main Street Family Services\, Main Street Family Services 400 Jackson Avenue NW\, Suite 101\, Elk River\, United States
CATEGORIES:Community Mental Health,STIR
ATTACH;FMTTYPE=image/png:https://stirmn.org/wp-content/uploads/2025/07/Drop-in-Therapy-Pg-1.png
ORGANIZER;CN="Main Street Family Services":MAILTO:shari.ley@mainstreetfamilyservices.org
END:VEVENT
BEGIN:VEVENT
DTSTART;TZID=America/Chicago:20250926T183000
DTEND;TZID=America/Chicago:20250926T193000
DTSTAMP:20260420T070331
CREATED:20250825T211418Z
LAST-MODIFIED:20250825T211418Z
UID:257198-1758911400-1758915000@stirmn.org
SUMMARY:Hope in a Hopeless World Mental Health & Wellness Support Group
DESCRIPTION:Free\, peer-led support groups open to adults living with mental health concerns or symptoms of mental illness. All groups are led by peers with firsthand experience living with mental health concerns. \n2nd & 4th Thursday of every month from 6:30 PM to 7:30 PM \nLocation: Main Street Family Services 400 Jackson Ave NW\, Elk River\, MN 55330 Co-Facilitators: Job & Ryan
URL:https://stirmn.org/event/hope-in-a-hopeless-world-mental-health-wellness-support-group-2/
LOCATION:Family Resource Center\, Family Resource Center
CATEGORIES:Community Mental Health,STIR
ATTACH;FMTTYPE=image/png:https://stirmn.org/wp-content/uploads/2025/08/Hope-in-a-Hopeless-World-2nd-and-4th-Thursdays.png
END:VEVENT
BEGIN:VEVENT
DTSTART;TZID=America/Chicago:20250927T100000
DTEND;TZID=America/Chicago:20250927T180000
DTSTAMP:20260420T070331
CREATED:20250827T053930Z
LAST-MODIFIED:20250827T055026Z
UID:257210-1758967200-1758996000@stirmn.org
SUMMARY:Tattoo for a Cause
DESCRIPTION:Join Rivers of Hope and Modify Tattoo in supporting a great cause! 100% of the proceeds from this event (minus tips!) will directly benefit Rivers of Hope\, allowing us to continue providing crucial advocacy services for adult and youth victims and survivors of domestic violence.\nChoose from a variety of pre-drawn designs at two different price points: $80 and $120.\nIn addition to supporting Rivers of Hope\, you’ll also be supporting local artists\, as they will receive 100% of the tips they earn during the event.\nPlease note that the event is walk-ins only\, so be sure to arrive early to secure your spot and choose your design. First come\, first served. It’s a wonderful opportunity to get a new tattoo while making a difference in the lives of those affected by domestic violence.\nWe look forward to seeing you there!
URL:https://stirmn.org/event/tattoo-for-a-cause/
LOCATION:Modify Tattoo & Piercing\, 14030 Bank St\, Becker\, MN 55308-8865\, United States
CATEGORIES:STIR
ATTACH;FMTTYPE=image/webp:https://stirmn.org/wp-content/uploads/2025/08/Tattoo-for-a-Cause.webp
END:VEVENT
END:VCALENDAR