BEGIN:VCALENDAR
VERSION:2.0
PRODID:-//STIR - ECPv6.15.18//NONSGML v1.0//EN
CALSCALE:GREGORIAN
METHOD:PUBLISH
X-WR-CALNAME:STIR
X-ORIGINAL-URL:https://stirmn.org
X-WR-CALDESC:Events for STIR
REFRESH-INTERVAL;VALUE=DURATION:PT1H
X-Robots-Tag:noindex
X-PUBLISHED-TTL:PT1H
BEGIN:VTIMEZONE
TZID:UTC
BEGIN:STANDARD
TZOFFSETFROM:+0000
TZOFFSETTO:+0000
TZNAME:UTC
DTSTART:20240101T000000
END:STANDARD
END:VTIMEZONE
BEGIN:VEVENT
DTSTART;TZID=UTC:20250424T130000
DTEND;TZID=UTC:20250424T150000
DTSTAMP:20260420T222637
CREATED:20250417T122423Z
LAST-MODIFIED:20250417T122423Z
UID:256589-1745499600-1745506800@stirmn.org
SUMMARY:STIR Monthly Meeting
DESCRIPTION:Maple Room at the Sherburne County Governement Center\nNeed to join virtually?\nEmail Victoria.Johannes@co.sherburne.mn.us to receive a link.
URL:https://stirmn.org/event/stir-monthly-meeting/
LOCATION:Sherburne County Government Center\, Sherburne County Government Center
CATEGORIES:STIR
ATTACH;FMTTYPE=image/webp:https://stirmn.org/wp-content/uploads/2025/04/f71a5d_94780effc26647eca44e7d873e87f3a4mv2.webp
ORGANIZER;CN="STIR":MAILTO:info@stirmn.org
END:VEVENT
END:VCALENDAR