BEGIN:VCALENDAR
VERSION:2.0
PRODID:-//STIR - ECPv6.15.18//NONSGML v1.0//EN
CALSCALE:GREGORIAN
METHOD:PUBLISH
X-ORIGINAL-URL:https://stirmn.org
X-WR-CALDESC:Events for STIR
REFRESH-INTERVAL;VALUE=DURATION:PT1H
X-Robots-Tag:noindex
X-PUBLISHED-TTL:PT1H
BEGIN:VTIMEZONE
TZID:America/Chicago
BEGIN:DAYLIGHT
TZOFFSETFROM:-0600
TZOFFSETTO:-0500
TZNAME:CDT
DTSTART:20240310T080000
END:DAYLIGHT
BEGIN:STANDARD
TZOFFSETFROM:-0500
TZOFFSETTO:-0600
TZNAME:CST
DTSTART:20241103T070000
END:STANDARD
BEGIN:DAYLIGHT
TZOFFSETFROM:-0600
TZOFFSETTO:-0500
TZNAME:CDT
DTSTART:20250309T080000
END:DAYLIGHT
BEGIN:STANDARD
TZOFFSETFROM:-0500
TZOFFSETTO:-0600
TZNAME:CST
DTSTART:20251102T070000
END:STANDARD
BEGIN:DAYLIGHT
TZOFFSETFROM:-0600
TZOFFSETTO:-0500
TZNAME:CDT
DTSTART:20260308T080000
END:DAYLIGHT
BEGIN:STANDARD
TZOFFSETFROM:-0500
TZOFFSETTO:-0600
TZNAME:CST
DTSTART:20261101T070000
END:STANDARD
END:VTIMEZONE
BEGIN:VEVENT
DTSTART;TZID=America/Chicago:20251016T100000
DTEND;TZID=America/Chicago:20251016T130000
DTSTAMP:20260420T122241
CREATED:20250825T182515Z
LAST-MODIFIED:20250825T182515Z
UID:257188-1760608800-1760619600@stirmn.org
SUMMARY:Drop in Counseling at Main Street Family Services
DESCRIPTION:Are you or someone you know struggling with mental health stability\, stress or feelings of overwhelm? Main Street Family Services is offering free drop-in therapy. Drop in therapy services are completely free and confidential and no appointment is necessary. A licensed Main Street Family Services Therapist will be available on the 3rd Wednesday of the month from 10:00am-1:00pm. \nLocation: Main Street Family Services 400 Jackson Ave NW Elk River\, MN 55330
URL:https://stirmn.org/event/drop-in-counseling-at-main-street-family-services-2/
LOCATION:Main Street Family Services\, Main Street Family Services 400 Jackson Avenue NW\, Suite 101\, Elk River\, United States
CATEGORIES:Community Mental Health,STIR
ATTACH;FMTTYPE=image/png:https://stirmn.org/wp-content/uploads/2025/07/Drop-in-Therapy-Pg-1.png
ORGANIZER;CN="Main Street Family Services":MAILTO:shari.ley@mainstreetfamilyservices.org
END:VEVENT
BEGIN:VEVENT
DTSTART;TZID=America/Chicago:20251016T130000
DTEND;TZID=America/Chicago:20251016T170000
DTSTAMP:20260420T122241
CREATED:20250905T205202Z
LAST-MODIFIED:20250905T205550Z
UID:257228-1760619600-1760634000@stirmn.org
SUMMARY:Community Connect- Sherburne County United Way
DESCRIPTION:
URL:https://stirmn.org/event/community-connect-sherburne-county-united-way/
LOCATION:Big Lake Middle School
CATEGORIES:Community Mental Health,STIR
ATTACH;FMTTYPE=image/png:https://stirmn.org/wp-content/uploads/2025/09/Community-Connect-scaled.png
END:VEVENT
END:VCALENDAR