BEGIN:VCALENDAR
VERSION:2.0
PRODID:-//STIR - ECPv6.15.18//NONSGML v1.0//EN
CALSCALE:GREGORIAN
METHOD:PUBLISH
X-ORIGINAL-URL:https://stirmn.org
X-WR-CALDESC:Events for STIR
REFRESH-INTERVAL;VALUE=DURATION:PT1H
X-Robots-Tag:noindex
X-PUBLISHED-TTL:PT1H
BEGIN:VTIMEZONE
TZID:America/Chicago
BEGIN:DAYLIGHT
TZOFFSETFROM:-0600
TZOFFSETTO:-0500
TZNAME:CDT
DTSTART:20240310T080000
END:DAYLIGHT
BEGIN:STANDARD
TZOFFSETFROM:-0500
TZOFFSETTO:-0600
TZNAME:CST
DTSTART:20241103T070000
END:STANDARD
BEGIN:DAYLIGHT
TZOFFSETFROM:-0600
TZOFFSETTO:-0500
TZNAME:CDT
DTSTART:20250309T080000
END:DAYLIGHT
BEGIN:STANDARD
TZOFFSETFROM:-0500
TZOFFSETTO:-0600
TZNAME:CST
DTSTART:20251102T070000
END:STANDARD
BEGIN:DAYLIGHT
TZOFFSETFROM:-0600
TZOFFSETTO:-0500
TZNAME:CDT
DTSTART:20260308T080000
END:DAYLIGHT
BEGIN:STANDARD
TZOFFSETFROM:-0500
TZOFFSETTO:-0600
TZNAME:CST
DTSTART:20261101T070000
END:STANDARD
END:VTIMEZONE
BEGIN:VEVENT
DTSTART;TZID=America/Chicago:20251024T183000
DTEND;TZID=America/Chicago:20251024T193000
DTSTAMP:20260420T110926
CREATED:20250825T211615Z
LAST-MODIFIED:20250825T211615Z
UID:257202-1761330600-1761334200@stirmn.org
SUMMARY:Hope in a Hopeless World Mental Health & Wellness Support Group
DESCRIPTION:Free\, peer-led support groups open to adults living with mental health concerns or symptoms of mental illness. All groups are led by peers with firsthand experience living with mental health concerns. \n2nd & 4th Thursday of every month from 6:30 PM to 7:30 PM \nLocation: Main Street Family Services 400 Jackson Ave NW\, Elk River\, MN 55330 Co-Facilitators: Job & Ryan
URL:https://stirmn.org/event/hope-in-a-hopeless-world-mental-health-wellness-support-group-4/
LOCATION:Family Resource Center\, Family Resource Center
CATEGORIES:Community Mental Health,STIR
ATTACH;FMTTYPE=image/png:https://stirmn.org/wp-content/uploads/2025/08/Hope-in-a-Hopeless-World-2nd-and-4th-Thursdays.png
END:VEVENT
END:VCALENDAR