BEGIN:VCALENDAR
VERSION:2.0
PRODID:-//STIR - ECPv6.15.18//NONSGML v1.0//EN
CALSCALE:GREGORIAN
METHOD:PUBLISH
X-WR-CALNAME:STIR
X-ORIGINAL-URL:https://stirmn.org
X-WR-CALDESC:Events for STIR
REFRESH-INTERVAL;VALUE=DURATION:PT1H
X-Robots-Tag:noindex
X-PUBLISHED-TTL:PT1H
BEGIN:VTIMEZONE
TZID:America/Chicago
BEGIN:DAYLIGHT
TZOFFSETFROM:-0600
TZOFFSETTO:-0500
TZNAME:CDT
DTSTART:20240310T080000
END:DAYLIGHT
BEGIN:STANDARD
TZOFFSETFROM:-0500
TZOFFSETTO:-0600
TZNAME:CST
DTSTART:20241103T070000
END:STANDARD
BEGIN:DAYLIGHT
TZOFFSETFROM:-0600
TZOFFSETTO:-0500
TZNAME:CDT
DTSTART:20250309T080000
END:DAYLIGHT
BEGIN:STANDARD
TZOFFSETFROM:-0500
TZOFFSETTO:-0600
TZNAME:CST
DTSTART:20251102T070000
END:STANDARD
BEGIN:DAYLIGHT
TZOFFSETFROM:-0600
TZOFFSETTO:-0500
TZNAME:CDT
DTSTART:20260308T080000
END:DAYLIGHT
BEGIN:STANDARD
TZOFFSETFROM:-0500
TZOFFSETTO:-0600
TZNAME:CST
DTSTART:20261101T070000
END:STANDARD
BEGIN:DAYLIGHT
TZOFFSETFROM:-0600
TZOFFSETTO:-0500
TZNAME:CDT
DTSTART:20270314T080000
END:DAYLIGHT
BEGIN:STANDARD
TZOFFSETFROM:-0500
TZOFFSETTO:-0600
TZNAME:CST
DTSTART:20271107T070000
END:STANDARD
END:VTIMEZONE
BEGIN:VEVENT
DTSTART;TZID=America/Chicago:20251030T180000
DTEND;TZID=America/Chicago:20251030T220000
DTSTAMP:20260420T224600
CREATED:20250827T054550Z
LAST-MODIFIED:20250827T060502Z
UID:257216-1761847200-1761861600@stirmn.org
SUMMARY:Top Golf Tournament
DESCRIPTION:People can sponsor and purchase tickets for the Top Golf tournament here: https://givebutter.com/w0cMbB \nJoin Rivers of Hope in taking a stand against domestic violence by joining us at our 2nd Annual Top Golf Tournament on October 30th from 6:00-10:00 PM. \nThis event will include over 2 hours of play along with a fajita bar and complimentary non-alcoholic beverages. It is a fun event for the whole family to come\, book a bay\, and spend some time playing golf and supporting a good cause! \nSponsorships and ticket sales all support our work with adult and youth victims of domestic violence\, including legal advocacy\, safety planning\, court accompaniment\, support groups\, and educational outreach. We offer three sponsorship levels: -Ace Sponsor ($5\,000) -Eagle Sponsor ($2500) -Birdie Sponsor ($1000) Each level comes includes admissions to play and recognition opportunities. Secure your sponsorship today and help us create a safer\, more hopeful future for our community.
URL:https://stirmn.org/event/top-golf-tournament/
LOCATION:Brooklyn Center\, Topgolf Brooklyn Center\, 6420 Camden Ave N\, Brooklyn Center\, MN 55430\, USA
CATEGORIES:STIR
ATTACH;FMTTYPE=image/webp:https://stirmn.org/wp-content/uploads/2025/08/Top-Golf-Tournament.webp
END:VEVENT
BEGIN:VEVENT
DTSTART;TZID=America/Chicago:20251114T183000
DTEND;TZID=America/Chicago:20251114T193000
DTSTAMP:20260420T224600
CREATED:20250825T211736Z
LAST-MODIFIED:20250825T211736Z
UID:257204-1763145000-1763148600@stirmn.org
SUMMARY:Hope in a Hopeless World Mental Health & Wellness Support Group
DESCRIPTION:Free\, peer-led support groups open to adults living with mental health concerns or symptoms of mental illness. All groups are led by peers with firsthand experience living with mental health concerns. \n2nd & 4th Thursday of every month from 6:30 PM to 7:30 PM \nLocation: Main Street Family Services 400 Jackson Ave NW\, Elk River\, MN 55330 Co-Facilitators: Job & Ryan
URL:https://stirmn.org/event/hope-in-a-hopeless-world-mental-health-wellness-support-group-5/
LOCATION:Family Resource Center\, Family Resource Center
CATEGORIES:Community Mental Health,STIR
ATTACH;FMTTYPE=image/png:https://stirmn.org/wp-content/uploads/2025/08/Hope-in-a-Hopeless-World-2nd-and-4th-Thursdays.png
END:VEVENT
BEGIN:VEVENT
DTSTART;TZID=America/Chicago:20251120T100000
DTEND;TZID=America/Chicago:20251120T130000
DTSTAMP:20260420T224600
CREATED:20250825T182608Z
LAST-MODIFIED:20250825T182608Z
UID:257190-1763632800-1763643600@stirmn.org
SUMMARY:Drop in Counseling at Main Street Family Services
DESCRIPTION:Are you or someone you know struggling with mental health stability\, stress or feelings of overwhelm? Main Street Family Services is offering free drop-in therapy. Drop in therapy services are completely free and confidential and no appointment is necessary. A licensed Main Street Family Services Therapist will be available on the 3rd Wednesday of the month from 10:00am-1:00pm. \nLocation: Main Street Family Services 400 Jackson Ave NW Elk River\, MN 55330
URL:https://stirmn.org/event/drop-in-counseling-at-main-street-family-services-3/
LOCATION:Main Street Family Services\, Main Street Family Services 400 Jackson Avenue NW\, Suite 101\, Elk River\, United States
CATEGORIES:Community Mental Health,STIR
ATTACH;FMTTYPE=image/png:https://stirmn.org/wp-content/uploads/2025/07/Drop-in-Therapy-Pg-1.png
ORGANIZER;CN="Main Street Family Services":MAILTO:shari.ley@mainstreetfamilyservices.org
END:VEVENT
BEGIN:VEVENT
DTSTART;TZID=America/Chicago:20251125T130000
DTEND;TZID=America/Chicago:20251125T150000
DTSTAMP:20260420T224600
CREATED:20251126T135930Z
LAST-MODIFIED:20251126T135930Z
UID:257379-1764075600-1764082800@stirmn.org
SUMMARY:STIR Monthly Meeting
DESCRIPTION:
URL:https://stirmn.org/event/stir-monthly-meeting-7/
LOCATION:Sherburne County Government Center\, Sherburne County Government Center
CATEGORIES:STIR
END:VEVENT
BEGIN:VEVENT
DTSTART;TZID=America/Chicago:20251211T183000
DTEND;TZID=America/Chicago:20251211T193000
DTSTAMP:20260420T224600
CREATED:20250825T212034Z
LAST-MODIFIED:20250825T212034Z
UID:257208-1765477800-1765481400@stirmn.org
SUMMARY:Hope in a Hopeless World Mental Health & Wellness Support Group
DESCRIPTION:Free\, peer-led support groups open to adults living with mental health concerns or symptoms of mental illness. All groups are led by peers with firsthand experience living with mental health concerns. \n2nd & 4th Thursday of every month from 6:30 PM to 7:30 PM \nLocation: Main Street Family Services 400 Jackson Ave NW\, Elk River\, MN 55330 Co-Facilitators: Job & Ryan
URL:https://stirmn.org/event/hope-in-a-hopeless-world-mental-health-wellness-support-group-7/
LOCATION:Family Resource Center\, Family Resource Center
CATEGORIES:Community Mental Health,STIR
ATTACH;FMTTYPE=image/png:https://stirmn.org/wp-content/uploads/2025/08/Hope-in-a-Hopeless-World-2nd-and-4th-Thursdays.png
END:VEVENT
BEGIN:VEVENT
DTSTART;TZID=America/Chicago:20251218T100000
DTEND;TZID=America/Chicago:20251218T130000
DTSTAMP:20260420T224600
CREATED:20250825T182706Z
LAST-MODIFIED:20250825T182706Z
UID:257192-1766052000-1766062800@stirmn.org
SUMMARY:Drop in Counseling at Main Street Family Services
DESCRIPTION:Are you or someone you know struggling with mental health stability\, stress or feelings of overwhelm? Main Street Family Services is offering free drop-in therapy. Drop in therapy services are completely free and confidential and no appointment is necessary. A licensed Main Street Family Services Therapist will be available on the 3rd Wednesday of the month from 10:00am-1:00pm. \nLocation: Main Street Family Services 400 Jackson Ave NW Elk River\, MN 55330
URL:https://stirmn.org/event/drop-in-counseling-at-main-street-family-services-4/
LOCATION:Main Street Family Services\, Main Street Family Services 400 Jackson Avenue NW\, Suite 101\, Elk River\, United States
CATEGORIES:Community Mental Health,STIR
ATTACH;FMTTYPE=image/png:https://stirmn.org/wp-content/uploads/2025/07/Drop-in-Therapy-Pg-1.png
ORGANIZER;CN="Main Street Family Services":MAILTO:shari.ley@mainstreetfamilyservices.org
END:VEVENT
BEGIN:VEVENT
DTSTART;TZID=America/Chicago:20260122T130000
DTEND;TZID=America/Chicago:20260122T150000
DTSTAMP:20260420T224600
CREATED:20251126T135648Z
LAST-MODIFIED:20251202T045757Z
UID:257375-1769086800-1769094000@stirmn.org
SUMMARY:STIR Monthly Meeting
DESCRIPTION:Meetings Are Held at the Government Center as Well as via Teams.
URL:https://stirmn.org/event/stir-monthly-meeting-5/
LOCATION:Sherburne County Government Center\, Sherburne County Government Center
CATEGORIES:STIR
END:VEVENT
BEGIN:VEVENT
DTSTART;TZID=America/Chicago:20260226T130000
DTEND;TZID=America/Chicago:20260226T150000
DTSTAMP:20260420T224600
CREATED:20251126T135755Z
LAST-MODIFIED:20251202T045904Z
UID:257377-1772110800-1772118000@stirmn.org
SUMMARY:STIR Monthly Meeting
DESCRIPTION:Meetings Are Held at the Government Center as Well as via Teams.
URL:https://stirmn.org/event/stir-monthly-meeting-6/
LOCATION:Sherburne County Government Center\, Sherburne County Government Center
CATEGORIES:STIR
END:VEVENT
BEGIN:VEVENT
DTSTART;TZID=America/Chicago:20260326T130000
DTEND;TZID=America/Chicago:20260326T150000
DTSTAMP:20260420T224600
CREATED:20251127T073609Z
LAST-MODIFIED:20251202T045930Z
UID:257434-1774530000-1774537200@stirmn.org
SUMMARY:STIR Monthly Meeting
DESCRIPTION:Meetings Are Held at the Government Center as Well as via Teams.
URL:https://stirmn.org/event/stir-monthly-meeting-8/
LOCATION:Sherburne County Government Center\, Sherburne County Government Center
CATEGORIES:STIR
END:VEVENT
BEGIN:VEVENT
DTSTART;TZID=America/Chicago:20260423T130000
DTEND;TZID=America/Chicago:20260423T150000
DTSTAMP:20260420T224600
CREATED:20251127T073717Z
LAST-MODIFIED:20251202T045958Z
UID:257435-1776949200-1776956400@stirmn.org
SUMMARY:STIR Monthly Meeting
DESCRIPTION:Meetings Are Held at the Government Center as Well as via Teams.
URL:https://stirmn.org/event/stir-monthly-meeting-9/
LOCATION:Sherburne County Government Center\, Sherburne County Government Center
CATEGORIES:STIR
END:VEVENT
BEGIN:VEVENT
DTSTART;TZID=America/Chicago:20260528T130000
DTEND;TZID=America/Chicago:20260528T150000
DTSTAMP:20260420T224600
CREATED:20251127T073717Z
LAST-MODIFIED:20251202T050019Z
UID:257442-1779973200-1779980400@stirmn.org
SUMMARY:STIR Monthly Meeting
DESCRIPTION:Meetings Are Held at the Government Center as Well as via Teams.
URL:https://stirmn.org/event/stir-monthly-meeting-10/
LOCATION:Sherburne County Government Center\, Sherburne County Government Center
CATEGORIES:STIR
END:VEVENT
BEGIN:VEVENT
DTSTART;TZID=America/Chicago:20260625T130000
DTEND;TZID=America/Chicago:20260625T150000
DTSTAMP:20260420T224600
CREATED:20251127T073717Z
LAST-MODIFIED:20251202T050041Z
UID:257443-1782392400-1782399600@stirmn.org
SUMMARY:STIR Monthly Meeting
DESCRIPTION:Meetings Are Held at the Government Center as Well as via Teams.
URL:https://stirmn.org/event/stir-monthly-meeting-11/
LOCATION:Sherburne County Government Center\, Sherburne County Government Center
CATEGORIES:STIR
END:VEVENT
END:VCALENDAR